BEGIN:VCALENDAR
VERSION:2.0
PRODID:-//Insbrai - Instituto sul-brasileiro de Aikido - ECPv6.15.20//NONSGML v1.0//EN
CALSCALE:GREGORIAN
METHOD:PUBLISH
X-ORIGINAL-URL:https://aikido.com.br
X-WR-CALDESC:Eventos para Insbrai - Instituto sul-brasileiro de Aikido
REFRESH-INTERVAL;VALUE=DURATION:PT1H
X-Robots-Tag:noindex
X-PUBLISHED-TTL:PT1H
BEGIN:VTIMEZONE
TZID:America/Sao_Paulo
BEGIN:STANDARD
TZOFFSETFROM:-0300
TZOFFSETTO:-0300
TZNAME:-03
DTSTART:20240101T000000
END:STANDARD
END:VTIMEZONE
BEGIN:VEVENT
DTSTART;TZID=America/Sao_Paulo:20250405T100000
DTEND;TZID=America/Sao_Paulo:20250405T220000
DTSTAMP:20260423T014726
CREATED:20241204T173542Z
LAST-MODIFIED:20250312T010924Z
UID:7214-1743847200-1743890400@aikido.com.br
SUMMARY:Yudanshakai\, Koshukai e Exames de graduação 2025/1
DESCRIPTION:Koshukai – das 10:00 às 11:30 (participação obrigatória para alunos que prestarão exame). \nYudanshakai – das 15:00 às 16:45. \nExames de graduação – imediatamente após o Yudanshakai (17:00).
URL:https://aikido.com.br/eventos/yudanshakai-koshukai-e-exames-de-graduacao-2025-1/
LOCATION:Dojo Central – Vargas Dojo\, Rua Dr. Barros Cassal\, 705\, Loja 10\, Cond. Edifício Parque Castor Farroupilha\, Bom Fim\, Porto Alegre\, RS\, Brasil
END:VEVENT
BEGIN:VEVENT
DTSTART;TZID=America/Sao_Paulo:20250426T190000
DTEND;TZID=America/Sao_Paulo:20250426T203000
DTSTAMP:20260423T014726
CREATED:20241204T174253Z
LAST-MODIFIED:20241204T174911Z
UID:7212-1745694000-1745699400@aikido.com.br
SUMMARY:Dia Mundial do Aikido
DESCRIPTION:Dia Mundial do Aikido (e municipal na cidade de Porto Alegre). \nKoshukai – das 19:00 às 20:30
URL:https://aikido.com.br/eventos/dia-mundial-do-aikido-2025/
LOCATION:Dojo Central – Vargas Dojo\, Rua Dr. Barros Cassal\, 705\, Loja 10\, Cond. Edifício Parque Castor Farroupilha\, Bom Fim\, Porto Alegre\, RS\, Brasil
END:VEVENT
END:VCALENDAR