BEGIN:VCALENDAR
VERSION:2.0
PRODID:-//Insbrai - Instituto sul-brasileiro de Aikido - ECPv6.15.20//NONSGML v1.0//EN
CALSCALE:GREGORIAN
METHOD:PUBLISH
X-WR-CALNAME:Insbrai - Instituto sul-brasileiro de Aikido
X-ORIGINAL-URL:https://aikido.com.br
X-WR-CALDESC:Eventos para Insbrai - Instituto sul-brasileiro de Aikido
REFRESH-INTERVAL;VALUE=DURATION:PT1H
X-Robots-Tag:noindex
X-PUBLISHED-TTL:PT1H
BEGIN:VTIMEZONE
TZID:America/Sao_Paulo
BEGIN:STANDARD
TZOFFSETFROM:-0300
TZOFFSETTO:-0300
TZNAME:-03
DTSTART:20220101T000000
END:STANDARD
END:VTIMEZONE
BEGIN:VEVENT
DTSTART;VALUE=DATE:20230609
DTEND;VALUE=DATE:20230611
DTSTAMP:20260424T154750
CREATED:20230317T200106Z
LAST-MODIFIED:20230317T200106Z
UID:6802-1686344400-1686430799@aikido.com.br
SUMMARY:Seminário Fernando Sensei
DESCRIPTION:Palhoça\, SC.
URL:https://aikido.com.br/eventos/seminario-fernando-sensei/
LOCATION:RS
END:VEVENT
BEGIN:VEVENT
DTSTART;TZID=America/Sao_Paulo:20230610T063000
DTEND;TZID=America/Sao_Paulo:20230610T110000
DTSTAMP:20260424T154750
CREATED:20230317T194948Z
LAST-MODIFIED:20230418T225056Z
UID:6799-1686378600-1686394800@aikido.com.br
SUMMARY:Seminário Márcio Deschamps Sensei\, 5º Dan
DESCRIPTION:Treinão de inverno em Urubici. \nClique aqui para realizar sua inscrição
URL:https://aikido.com.br/eventos/seminario-marcio-deschamps-sensei-5o-dan/
LOCATION:Urubici Dojo\, Rua Boanerges Pereira de Medeiros\, 1287\, Centro\, Urubici\, SC\, Brasil
END:VEVENT
END:VCALENDAR