BEGIN:VCALENDAR
VERSION:2.0
PRODID:-//Insbrai - Instituto sul-brasileiro de Aikido - ECPv6.15.20//NONSGML v1.0//EN
CALSCALE:GREGORIAN
METHOD:PUBLISH
X-WR-CALNAME:Insbrai - Instituto sul-brasileiro de Aikido
X-ORIGINAL-URL:https://aikido.com.br
X-WR-CALDESC:Eventos para Insbrai - Instituto sul-brasileiro de Aikido
REFRESH-INTERVAL;VALUE=DURATION:PT1H
X-Robots-Tag:noindex
X-PUBLISHED-TTL:PT1H
BEGIN:VTIMEZONE
TZID:America/Sao_Paulo
BEGIN:STANDARD
TZOFFSETFROM:-0300
TZOFFSETTO:-0300
TZNAME:-03
DTSTART:20220101T000000
END:STANDARD
END:VTIMEZONE
BEGIN:VEVENT
DTSTART;TZID=America/Sao_Paulo:20230416T100000
DTEND;TZID=America/Sao_Paulo:20230416T130000
DTSTAMP:20260424T185352
CREATED:20230317T193217Z
LAST-MODIFIED:20230411T042851Z
UID:6788-1681639200-1681650000@aikido.com.br
SUMMARY:4 anos Estúdio Arte Aikido
DESCRIPTION:Evento para comemoração dos 4 anos do dojo Estúdio Arte Aikido em Novo Hamburgo: \nTreino das 10:00 às 11:30\, seguido de confraternização com comes e bebes.
URL:https://aikido.com.br/eventos/5-anos-estudio-arte-aikido/
LOCATION:Estúdio Arte Aikido\, Rua General Osório\, 923 - sala 13\, Novo Hamburgo\, RS\, Brasil
END:VEVENT
BEGIN:VEVENT
DTSTART;TZID=America/Sao_Paulo:20230426T190000
DTEND;TZID=America/Sao_Paulo:20230426T210000
DTSTAMP:20260424T185352
CREATED:20230404T153900Z
LAST-MODIFIED:20241204T174423Z
UID:6832-1682535600-1682542800@aikido.com.br
SUMMARY:Dia Mundial do Aikido
DESCRIPTION:Dia Mundial do Aikido (e municipal na cidade de Porto Alegre).
URL:https://aikido.com.br/eventos/dia-do-aikido-2023/
LOCATION:Dojo Central – Vargas Dojo\, Rua Dr. Barros Cassal\, 705\, Loja 10\, Cond. Edifício Parque Castor Farroupilha\, Bom Fim\, Porto Alegre\, RS\, Brasil
END:VEVENT
END:VCALENDAR