BEGIN:VCALENDAR
VERSION:2.0
PRODID:-//Insbrai - Instituto sul-brasileiro de Aikido - ECPv6.15.20//NONSGML v1.0//EN
CALSCALE:GREGORIAN
METHOD:PUBLISH
X-WR-CALNAME:Insbrai - Instituto sul-brasileiro de Aikido
X-ORIGINAL-URL:https://aikido.com.br
X-WR-CALDESC:Eventos para Insbrai - Instituto sul-brasileiro de Aikido
REFRESH-INTERVAL;VALUE=DURATION:PT1H
X-Robots-Tag:noindex
X-PUBLISHED-TTL:PT1H
BEGIN:VTIMEZONE
TZID:America/Sao_Paulo
BEGIN:STANDARD
TZOFFSETFROM:-0300
TZOFFSETTO:-0300
TZNAME:-03
DTSTART:20220101T000000
END:STANDARD
END:VTIMEZONE
BEGIN:VEVENT
DTSTART;VALUE=DATE:20230915
DTEND;VALUE=DATE:20230917
DTSTAMP:20260420T052748
CREATED:20230906T181749Z
LAST-MODIFIED:20230906T181749Z
UID:7101-1694811600-1694897999@aikido.com.br
SUMMARY:Koshukai e Yudanshakai
DESCRIPTION:Sábado de eventos no Dojo Central do INSBRAI\, conforme imagem e horários abaixo: \nKoshukai às 10:00 da manhã e Yudanshakai às 14:30. \n(O Yudanshakai\, excepcionalmente\, estará aberto para participação de alunos de 2º kyu e 1º kyu)
URL:https://aikido.com.br/eventos/koshukai-e-yudanshakai/
LOCATION:Dojo Central – Vargas Dojo\, Rua Dr. Barros Cassal\, 705\, Loja 10\, Cond. Edifício Parque Castor Farroupilha\, Bom Fim\, Porto Alegre\, RS\, Brasil
END:VEVENT
BEGIN:VEVENT
DTSTART;VALUE=DATE:20230818
DTEND;VALUE=DATE:20230821
DTSTAMP:20260420T052748
CREATED:20230317T200359Z
LAST-MODIFIED:20230317T200359Z
UID:6804-1692392400-1692565199@aikido.com.br
SUMMARY:Seminário Leonardo Sodré Sensei\, 6º Dan
DESCRIPTION:Palhoça\, SC
URL:https://aikido.com.br/eventos/seminario-leonardo-sodre-sensei-6o-dan/
LOCATION:RS
END:VEVENT
BEGIN:VEVENT
DTSTART;VALUE=DATE:20230804
DTEND;VALUE=DATE:20230807
DTSTAMP:20260420T052748
CREATED:20230317T200703Z
LAST-MODIFIED:20230626T180817Z
UID:6806-1691182800-1691355599@aikido.com.br
SUMMARY:Comemoração dos 35 anos do Aikido no RGS
DESCRIPTION:  \n\n\n\n\n\nVenha celebrar conosco o aniversário dos 35 anos de história e tradição do Aikido no Rio Grande do Sul e participar de uma experiência transformadora. \nNesse encontro você terá uma oportunidade única de se aprofundar nas visões pessoais sobre o Aikido\, compartilhadas pelos senseis convidados\, os quais vêm dedicando a maior parte da vida ao estudo e ensino dessa arte marcial. \nParticipe dessa excelente oportunidade para ampliar seu próprio conhecimento\, ganhar perspectivas valiosas e aprimorar sua técnica e seja parte dessa jornada de aprendizado enriquecedor junto de outros praticantes dedicados como você.Clique na imagem e acesse o site de inscrição. \nJuntos\, somos mais fortes! \n\n\n\n\n 
URL:https://aikido.com.br/eventos/35-anos-do-aikido-no-rs/
LOCATION:CETE – Centro Estadual de Treinamento Esportivo\, Rua Gonçalves Dias\, 700\, Porto Alegre\, RS\, 90130-060\, Brasil
END:VEVENT
BEGIN:VEVENT
DTSTART;TZID=America/Sao_Paulo:20230722T110000
DTEND;TZID=America/Sao_Paulo:20230722T150000
DTSTAMP:20260420T052748
CREATED:20230716T003543Z
LAST-MODIFIED:20230717T185553Z
UID:7064-1690023600-1690038000@aikido.com.br
SUMMARY:Workshop - O Aikido e os meridianos da medicina oriental
DESCRIPTION:  \nInformações do evento: \n1. Haverá um intervalo para um Coffebreak por volta das 16h. \n2. A contribuição mínima (símbolica) para o evento será de R$15\,00 + 1 kg de alimento não perecível. Estamos fazendo uma ação em parceria com o Grupo PF das Ruas (@pf_das_ruas)\, que distribui refeições para os sem tetos aqui em Porto Alegre. \n3. Como o evento será no Tatame\, recomendamos que tragam almofadas\, para melhor acomodação. \n  \n  \n 
URL:https://aikido.com.br/eventos/workshop-o-aikido-e-os-meridianos-da-medicina-oriental/
LOCATION:Dojo Central – Vargas Dojo\, Rua Dr. Barros Cassal\, 705\, Loja 10\, Cond. Edifício Parque Castor Farroupilha\, Bom Fim\, Porto Alegre\, RS\, Brasil
END:VEVENT
BEGIN:VEVENT
DTSTART;TZID=America/Sao_Paulo:20230610T063000
DTEND;TZID=America/Sao_Paulo:20230610T110000
DTSTAMP:20260420T052748
CREATED:20230317T194948Z
LAST-MODIFIED:20230418T225056Z
UID:6799-1686378600-1686394800@aikido.com.br
SUMMARY:Seminário Márcio Deschamps Sensei\, 5º Dan
DESCRIPTION:Treinão de inverno em Urubici. \nClique aqui para realizar sua inscrição
URL:https://aikido.com.br/eventos/seminario-marcio-deschamps-sensei-5o-dan/
LOCATION:Urubici Dojo\, Rua Boanerges Pereira de Medeiros\, 1287\, Centro\, Urubici\, SC\, Brasil
END:VEVENT
BEGIN:VEVENT
DTSTART;VALUE=DATE:20230609
DTEND;VALUE=DATE:20230611
DTSTAMP:20260420T052748
CREATED:20230317T200106Z
LAST-MODIFIED:20230317T200106Z
UID:6802-1686344400-1686430799@aikido.com.br
SUMMARY:Seminário Fernando Sensei
DESCRIPTION:Palhoça\, SC.
URL:https://aikido.com.br/eventos/seminario-fernando-sensei/
LOCATION:RS
END:VEVENT
BEGIN:VEVENT
DTSTART;TZID=America/Sao_Paulo:20230520T110000
DTEND;TZID=America/Sao_Paulo:20230520T170000
DTSTAMP:20260420T052748
CREATED:20230317T204334Z
LAST-MODIFIED:20230518T174321Z
UID:6818-1684580400-1684602000@aikido.com.br
SUMMARY:Exames de graduação\, Yudanshakai e Koshukai
DESCRIPTION:Tarde de eventos no Dojo Central do INSBRAI\, conforme os horários abaixo: \n  \nYudanshakai – das 14:00 às 15:30. \nKoshukai – das 16:00 às 18:00. \nExames de graduação\, imediatamente após o Koshukai.
URL:https://aikido.com.br/eventos/exames-de-graduacao-yudanshakai-e-koshukai/
LOCATION:Dojo Central – Vargas Dojo\, Rua Dr. Barros Cassal\, 705\, Loja 10\, Cond. Edifício Parque Castor Farroupilha\, Bom Fim\, Porto Alegre\, RS\, Brasil
END:VEVENT
BEGIN:VEVENT
DTSTART;TZID=America/Sao_Paulo:20230520T083000
DTEND;TZID=America/Sao_Paulo:20230520T103000
DTSTAMP:20260420T052748
CREATED:20230518T174912Z
LAST-MODIFIED:20230518T174912Z
UID:6876-1684571400-1684578600@aikido.com.br
SUMMARY:Aiki Almoço - INSBRAI independente
DESCRIPTION:Almoço para celebração e arrecadação de fundos\, em comemoração ao vinculo do INSBRAI diretamente ao Hombu Dojo/Aikikai do Japão. \nInscrições e contribuições podem ser feitas clicando AQUI.
URL:https://aikido.com.br/eventos/aiki-almoco-insbrai-independente/
LOCATION:Dojo Central – Vargas Dojo\, Rua Dr. Barros Cassal\, 705\, Loja 10\, Cond. Edifício Parque Castor Farroupilha\, Bom Fim\, Porto Alegre\, RS\, Brasil
END:VEVENT
BEGIN:VEVENT
DTSTART;VALUE=DATE:20230505
DTEND;VALUE=DATE:20230508
DTSTAMP:20260420T052748
CREATED:20230317T194152Z
LAST-MODIFIED:20230418T225040Z
UID:6796-1683320400-1683493199@aikido.com.br
SUMMARY:Seminário Sensei Luis Antônio Gentil\, 6º Dan
DESCRIPTION:Clique aqui para realizar sua inscrição
URL:https://aikido.com.br/eventos/seminario-sensei-luis-antonio-gentil-6o-dan/
LOCATION:Winner Behring Jiu-Jitsu\, R. Miguel Tostes\, 655 - Rio Branco\, Porto Alegre\, RS\, 90430-061\, Brasil
END:VEVENT
BEGIN:VEVENT
DTSTART;TZID=America/Sao_Paulo:20230426T190000
DTEND;TZID=America/Sao_Paulo:20230426T210000
DTSTAMP:20260420T052748
CREATED:20230404T153900Z
LAST-MODIFIED:20241204T174423Z
UID:6832-1682535600-1682542800@aikido.com.br
SUMMARY:Dia Mundial do Aikido
DESCRIPTION:Dia Mundial do Aikido (e municipal na cidade de Porto Alegre).
URL:https://aikido.com.br/eventos/dia-do-aikido-2023/
LOCATION:Dojo Central – Vargas Dojo\, Rua Dr. Barros Cassal\, 705\, Loja 10\, Cond. Edifício Parque Castor Farroupilha\, Bom Fim\, Porto Alegre\, RS\, Brasil
END:VEVENT
BEGIN:VEVENT
DTSTART;TZID=America/Sao_Paulo:20230416T100000
DTEND;TZID=America/Sao_Paulo:20230416T130000
DTSTAMP:20260420T052748
CREATED:20230317T193217Z
LAST-MODIFIED:20230411T042851Z
UID:6788-1681639200-1681650000@aikido.com.br
SUMMARY:4 anos Estúdio Arte Aikido
DESCRIPTION:Evento para comemoração dos 4 anos do dojo Estúdio Arte Aikido em Novo Hamburgo: \nTreino das 10:00 às 11:30\, seguido de confraternização com comes e bebes.
URL:https://aikido.com.br/eventos/5-anos-estudio-arte-aikido/
LOCATION:Estúdio Arte Aikido\, Rua General Osório\, 923 - sala 13\, Novo Hamburgo\, RS\, Brasil
END:VEVENT
END:VCALENDAR