BEGIN:VCALENDAR
VERSION:2.0
PRODID:-//Insbrai - Instituto sul-brasileiro de Aikido - ECPv6.15.20//NONSGML v1.0//EN
CALSCALE:GREGORIAN
METHOD:PUBLISH
X-WR-CALNAME:Insbrai - Instituto sul-brasileiro de Aikido
X-ORIGINAL-URL:https://aikido.com.br
X-WR-CALDESC:Eventos para Insbrai - Instituto sul-brasileiro de Aikido
REFRESH-INTERVAL;VALUE=DURATION:PT1H
X-Robots-Tag:noindex
X-PUBLISHED-TTL:PT1H
BEGIN:VTIMEZONE
TZID:America/Sao_Paulo
BEGIN:STANDARD
TZOFFSETFROM:-0300
TZOFFSETTO:-0300
TZNAME:-03
DTSTART:20250101T000000
END:STANDARD
END:VTIMEZONE
BEGIN:VEVENT
DTSTART;TZID=America/Sao_Paulo:20260627T133000
DTEND;TZID=America/Sao_Paulo:20260627T220000
DTSTAMP:20260420T022527
CREATED:20260212T174055Z
LAST-MODIFIED:20260212T174055Z
UID:9279-1782567000-1782597600@aikido.com.br
SUMMARY:Koshukai\, Yudanshakai e Exames de graduação - 2026/2
DESCRIPTION:Koshukai – das 14:00 às 15:30 (participação obrigatória para alunos que prestarão exame). \nYudanshakai – das 16:00 às 17:30. \nExames de graduação – imediatamente após o Yudanshakai (17:45). \nComo de costume\, após os exames seguiremos com a confraternização. Maiores informações serão divulgadas oportunamente nos grupos do WhatsApp.
URL:https://aikido.com.br/eventos/koshukai-yudanshakai-e-exames-de-graduacao-2026-2/
LOCATION:Dojo Central – Vargas Dojo\, Rua Dr. Barros Cassal\, 705\, Loja 10\, Cond. Edifício Parque Castor Farroupilha\, Bom Fim\, Porto Alegre\, RS\, Brasil
END:VEVENT
BEGIN:VEVENT
DTSTART;TZID=America/Sao_Paulo:20261017T133000
DTEND;TZID=America/Sao_Paulo:20261017T220000
DTSTAMP:20260420T022527
CREATED:20260212T173919Z
LAST-MODIFIED:20260212T173919Z
UID:9280-1792243800-1792274400@aikido.com.br
SUMMARY:Koshukai\, Yudanshakai e Exames de graduação - 2026/3
DESCRIPTION:Koshukai – das 14:00 às 15:30 (participação obrigatória para alunos que prestarão exame). \nYudanshakai – das 16:00 às 17:30. \nExames de graduação – imediatamente após o Yudanshakai (17:45). \nComo de costume\, após os exames seguiremos com a confraternização. Maiores informações serão divulgadas oportunamente nos grupos do WhatsApp.
URL:https://aikido.com.br/eventos/koshukai-yudanshakai-e-exames-de-graduacao-2026-3/
LOCATION:Dojo Central – Vargas Dojo\, Rua Dr. Barros Cassal\, 705\, Loja 10\, Cond. Edifício Parque Castor Farroupilha\, Bom Fim\, Porto Alegre\, RS\, Brasil
END:VEVENT
BEGIN:VEVENT
DTSTART;TZID=America/Sao_Paulo:20261205T150000
DTEND;TZID=America/Sao_Paulo:20261205T220000
DTSTAMP:20260420T022527
CREATED:20260212T174616Z
LAST-MODIFIED:20260212T174616Z
UID:9284-1796482800-1796508000@aikido.com.br
SUMMARY:Koshukai e Bonenkai 2026
DESCRIPTION:Koshukai – das 15:15 às 17:30 (intervalo de 15 min no meio). \nBonenkai (celebração de final de ano) logo após o enceramento do Koshukai (17:30/18:00). \nBonenkai realizado no formato tradicional das nossas confraternizações\, onde o Dojo fornece as bebidas (não alcoólicas) e cada participante leva uma porção de comida (suficiente para sí\, seus acompanhantes e mais uma pessoa). Convidados de fora\, amigos e familiares são sempre muito bem vindos.
URL:https://aikido.com.br/eventos/koshukai-e-bonenkai-2026/
LOCATION:Dojo Central – Vargas Dojo\, Rua Dr. Barros Cassal\, 705\, Loja 10\, Cond. Edifício Parque Castor Farroupilha\, Bom Fim\, Porto Alegre\, RS\, Brasil
END:VEVENT
BEGIN:VEVENT
DTSTART;TZID=America/Sao_Paulo:20270112T180000
DTEND;TZID=America/Sao_Paulo:20270112T220000
DTSTAMP:20260420T022527
CREATED:20260212T174720Z
LAST-MODIFIED:20260212T174720Z
UID:9287-1799776800-1799791200@aikido.com.br
SUMMARY:Shinenkai e Koshukai 2027
DESCRIPTION:Koshukai – das 18:00 às 19:30. \nShinenkai (celebração de início de ano) logo após o enceramento do Koshukai (19:30/20:00). \nShinenkai realizado no formato tradicional das nossas confraternizações\, onde o Dojo fornece as bebidas (não alcoólicas) e cada participante leva uma porção de comida (suficiente para sí\, seus acompanhantes e mais uma pessoa). Convidados de fora\, amigos e familiares são sempre muito bem vindos.
URL:https://aikido.com.br/eventos/shinenkai-e-koshukai-2027/
LOCATION:Dojo Central – Vargas Dojo\, Rua Dr. Barros Cassal\, 705\, Loja 10\, Cond. Edifício Parque Castor Farroupilha\, Bom Fim\, Porto Alegre\, RS\, Brasil
END:VEVENT
END:VCALENDAR