BEGIN:VCALENDAR
VERSION:2.0
PRODID:-//Insbrai - Instituto sul-brasileiro de Aikido - ECPv6.15.20//NONSGML v1.0//EN
CALSCALE:GREGORIAN
METHOD:PUBLISH
X-WR-CALNAME:Insbrai - Instituto sul-brasileiro de Aikido
X-ORIGINAL-URL:https://aikido.com.br
X-WR-CALDESC:Eventos para Insbrai - Instituto sul-brasileiro de Aikido
REFRESH-INTERVAL;VALUE=DURATION:PT1H
X-Robots-Tag:noindex
X-PUBLISHED-TTL:PT1H
BEGIN:VTIMEZONE
TZID:America/Sao_Paulo
BEGIN:STANDARD
TZOFFSETFROM:-0300
TZOFFSETTO:-0300
TZNAME:-03
DTSTART:20230101T000000
END:STANDARD
END:VTIMEZONE
BEGIN:VEVENT
DTSTART;VALUE=DATE:20241130
DTEND;VALUE=DATE:20241201
DTSTAMP:20260423T111837
CREATED:20230906T183039Z
LAST-MODIFIED:20241204T162715Z
UID:7106-1732924800-1733011199@aikido.com.br
SUMMARY:Yudanshakai\, Koshukai e Exames de graduação 2024/3
DESCRIPTION:Koshukai – início às 10:00. \nYudanshakai – início às 14:45. \nExames de graduação\, imediatamente após o Yudanshakai (17:00).
URL:https://aikido.com.br/eventos/yudanshakai-koshukai-e-exames-de-graduacao/
LOCATION:Dojo Central – Vargas Dojo\, Rua Dr. Barros Cassal\, 705\, Loja 10\, Cond. Edifício Parque Castor Farroupilha\, Bom Fim\, Porto Alegre\, RS\, Brasil
END:VEVENT
END:VCALENDAR